Package: pmp Version: 1.23.1 Command: rm -rf pmp.buildbin-libdir && mkdir pmp.buildbin-libdir && /Users/biocbuild/BBS/utils/build-universal.sh pmp_1.23.1.tar.gz /Library/Frameworks/R.framework/Resources/bin/R pmp.buildbin-libdir StartedAt: 2025-11-22 01:49:57 -0500 (Sat, 22 Nov 2025) EndedAt: 2025-11-22 01:50:36 -0500 (Sat, 22 Nov 2025) EllapsedTime: 39.2 seconds RetCode: 0 Status: OK PackageFile: pmp_1.23.1.tgz PackageFileSize: 5.431 MiB