Package: pmp Version: 1.21.0 Command: /Library/Frameworks/R.framework/Resources/bin/R CMD INSTALL pmp StartedAt: 2025-10-28 15:32:29 -0400 (Tue, 28 Oct 2025) EndedAt: 2025-10-28 15:32:40 -0400 (Tue, 28 Oct 2025) EllapsedTime: 10.3 seconds RetCode: 0 Status: OK