Package: pmm Version: 1.41.0 Command: /Library/Frameworks/R.framework/Resources/bin/R CMD INSTALL pmm StartedAt: 2025-10-06 15:12:10 -0400 (Mon, 06 Oct 2025) EndedAt: 2025-10-06 15:12:47 -0400 (Mon, 06 Oct 2025) EllapsedTime: 36.9 seconds RetCode: 0 Status: OK