Package: pmm Version: 1.41.0 Command: /Library/Frameworks/R.framework/Resources/bin/R CMD build --keep-empty-dirs --no-resave-data pmm StartedAt: 2025-10-05 18:28:10 -0400 (Sun, 05 Oct 2025) EndedAt: 2025-10-05 18:28:44 -0400 (Sun, 05 Oct 2025) EllapsedTime: 33.1 seconds RetCode: 0 Status: OK PackageFile: pmm_1.41.0.tar.gz PackageFileSize: 775.7 KiB