Package: pmm Version: 1.41.0 Command: rm -rf pmm.buildbin-libdir && mkdir pmm.buildbin-libdir && /Users/biocbuild/BBS/utils/build-universal.sh pmm_1.41.0.tar.gz /Library/Frameworks/R.framework/Resources/bin/R pmm.buildbin-libdir StartedAt: 2025-10-06 02:16:50 -0400 (Mon, 06 Oct 2025) EndedAt: 2025-10-06 02:17:02 -0400 (Mon, 06 Oct 2025) EllapsedTime: 12.6 seconds RetCode: 0 Status: OK PackageFile: pmm_1.41.0.tgz PackageFileSize: 809.4 KiB