Package: pmm Version: 1.41.0 Command: /Library/Frameworks/R.framework/Resources/bin/R CMD INSTALL pmm StartedAt: 2025-09-21 15:06:00 -0400 (Sun, 21 Sep 2025) EndedAt: 2025-09-21 15:06:07 -0400 (Sun, 21 Sep 2025) EllapsedTime: 7.1 seconds RetCode: 0 Status: OK