Package: plyxp Version: 1.5.0 Command: /home/biocbuild/bbs-3.23-bioc/R/bin/R CMD INSTALL plyxp StartedAt: 2025-11-20 15:17:02 -0500 (Thu, 20 Nov 2025) EndedAt: 2025-11-20 15:17:29 -0500 (Thu, 20 Nov 2025) EllapsedTime: 27.2 seconds RetCode: 0 Status: OK