Package: plyxp Version: 1.5.0 Command: /Library/Frameworks/R.framework/Resources/bin/R CMD INSTALL plyxp StartedAt: 2025-11-20 15:23:31 -0500 (Thu, 20 Nov 2025) EndedAt: 2025-11-20 15:24:11 -0500 (Thu, 20 Nov 2025) EllapsedTime: 40.7 seconds RetCode: 0 Status: OK