Package: plyxp Version: 1.5.0 Command: /Library/Frameworks/R.framework/Resources/bin/R CMD build --keep-empty-dirs --no-resave-data plyxp StartedAt: 2025-11-20 18:13:27 -0500 (Thu, 20 Nov 2025) EndedAt: 2025-11-20 18:14:16 -0500 (Thu, 20 Nov 2025) EllapsedTime: 49.2 seconds RetCode: 0 Status: OK PackageFile: plyxp_1.5.0.tar.gz PackageFileSize: 1.183 MiB