Package: plyxp Version: 1.3.10 Command: /Library/Frameworks/R.framework/Resources/bin/R CMD INSTALL plyxp StartedAt: 2025-10-20 15:11:19 -0400 (Mon, 20 Oct 2025) EndedAt: 2025-10-20 15:11:29 -0400 (Mon, 20 Oct 2025) EllapsedTime: 10.5 seconds RetCode: 0 Status: OK