Package: plyxp Version: 1.3.11 Command: /Library/Frameworks/R.framework/Resources/bin/R CMD build --keep-empty-dirs --no-resave-data plyxp StartedAt: 2025-10-21 17:23:50 -0400 (Tue, 21 Oct 2025) EndedAt: 2025-10-21 17:24:08 -0400 (Tue, 21 Oct 2025) EllapsedTime: 18.2 seconds RetCode: 0 Status: OK PackageFile: plyxp_1.3.11.tar.gz PackageFileSize: 1.184 MiB