Package: plyxp Version: 1.3.10 Command: rm -rf plyxp.buildbin-libdir && mkdir plyxp.buildbin-libdir && /Users/biocbuild/BBS/utils/build-universal.sh plyxp_1.3.10.tar.gz /Library/Frameworks/R.framework/Resources/bin/R plyxp.buildbin-libdir StartedAt: 2025-10-20 23:11:40 -0400 (Mon, 20 Oct 2025) EndedAt: 2025-10-20 23:11:52 -0400 (Mon, 20 Oct 2025) EllapsedTime: 12.2 seconds RetCode: 0 Status: OK PackageFile: plyxp_1.3.10.tgz PackageFileSize: 2.095 MiB