Package: plyranges Version: 1.31.0 Command: /home/biocbuild/bbs-3.23-bioc/R/bin/R CMD INSTALL plyranges StartedAt: 2025-11-06 15:32:19 -0500 (Thu, 06 Nov 2025) EndedAt: 2025-11-06 15:32:54 -0500 (Thu, 06 Nov 2025) EllapsedTime: 35.3 seconds RetCode: 0 Status: OK