Package: plyranges Version: 1.29.1 Command: /Library/Frameworks/R.framework/Resources/bin/R CMD INSTALL plyranges StartedAt: 2025-10-14 15:32:11 -0400 (Tue, 14 Oct 2025) EndedAt: 2025-10-14 15:33:00 -0400 (Tue, 14 Oct 2025) EllapsedTime: 48.5 seconds RetCode: 0 Status: OK