Package: plyranges Version: 1.29.1 Command: /Library/Frameworks/R.framework/Resources/bin/R CMD build --keep-empty-dirs --no-resave-data plyranges StartedAt: 2025-10-14 18:43:49 -0400 (Tue, 14 Oct 2025) EndedAt: 2025-10-14 18:45:08 -0400 (Tue, 14 Oct 2025) EllapsedTime: 78.9 seconds RetCode: 0 Status: OK PackageFile: plyranges_1.29.1.tar.gz PackageFileSize: 1.244 MiB