Package: plyranges Version: 1.29.1 Command: rm -rf plyranges.buildbin-libdir && mkdir plyranges.buildbin-libdir && /Users/biocbuild/BBS/utils/build-universal.sh plyranges_1.29.1.tar.gz /Library/Frameworks/R.framework/Resources/bin/R plyranges.buildbin-libdir StartedAt: 2025-10-14 03:00:10 -0400 (Tue, 14 Oct 2025) EndedAt: 2025-10-14 03:01:03 -0400 (Tue, 14 Oct 2025) EllapsedTime: 52.9 seconds RetCode: 0 Status: OK PackageFile: plyranges_1.29.1.tgz PackageFileSize: 1.554 MiB