Package: plyranges Version: 1.29.1 Command: /Library/Frameworks/R.framework/Resources/bin/R CMD INSTALL plyranges StartedAt: 2025-09-29 15:18:16 -0400 (Mon, 29 Sep 2025) EndedAt: 2025-09-29 15:18:31 -0400 (Mon, 29 Sep 2025) EllapsedTime: 14.6 seconds RetCode: 0 Status: OK