Package: plyranges Version: 1.29.1 Maintainer: Michael Love MaintainerEmail: michaelisaiahlove at gmail.com git_url: https://git.bioconductor.org/packages/plyranges git_branch: devel git_last_commit: 6a65251 git_last_commit_date: 2025-07-23 13:49:35 -0400 (Wed, 23 Jul 2025)