Package: plotgardener Version: 1.15.1 Command: /home/biocbuild/R/R/bin/R CMD INSTALL plotgardener StartedAt: 2025-10-02 20:58:16 -0000 (Thu, 02 Oct 2025) EndedAt: 2025-10-02 20:59:24 -0000 (Thu, 02 Oct 2025) EllapsedTime: 67.5 seconds RetCode: 0 Status: OK