Package: plotgardener Version: 1.15.1 Command: /home/biocbuild/R/R/bin/R CMD build --keep-empty-dirs --no-resave-data plotgardener StartedAt: 2025-10-03 02:13:28 -0000 (Fri, 03 Oct 2025) EndedAt: 2025-10-03 02:15:03 -0000 (Fri, 03 Oct 2025) EllapsedTime: 95.0 seconds RetCode: 0 Status: OK PackageFile: plotgardener_1.15.1.tar.gz PackageFileSize: 2.524 MiB