Package: plotgardener Version: 1.15.1 Command: chmod a+r plotgardener -R && F:\biocbuild\bbs-3.22-bioc\R\bin\R.exe CMD build --keep-empty-dirs --no-resave-data plotgardener StartedAt: 2025-08-14 22:22:09 -0400 (Thu, 14 Aug 2025) EndedAt: 2025-08-14 22:26:54 -0400 (Thu, 14 Aug 2025) EllapsedTime: 284.9 seconds RetCode: 0 Status: OK PackageFile: plotgardener_1.15.1.tar.gz PackageFileSize: 2.517 MiB