Package: plotgardener Version: 1.15.1 Command: rm -rf plotgardener.buildbin-libdir && mkdir plotgardener.buildbin-libdir && F:\biocbuild\bbs-3.22-bioc\R\bin\R.exe CMD INSTALL --build --library=plotgardener.buildbin-libdir plotgardener_1.15.1.tar.gz StartedAt: 2025-08-15 10:58:13 -0400 (Fri, 15 Aug 2025) EndedAt: 2025-08-15 11:00:23 -0400 (Fri, 15 Aug 2025) EllapsedTime: 129.2 seconds RetCode: 0 Status: OK PackageFile: plotgardener_1.15.1.zip PackageFileSize: 3.615 MiB