Package: plotgardener Version: 1.17.0 Command: /home/biocbuild/bbs-3.23-bioc/R/bin/R CMD INSTALL plotgardener StartedAt: 2025-11-07 15:35:27 -0500 (Fri, 07 Nov 2025) EndedAt: 2025-11-07 15:36:16 -0500 (Fri, 07 Nov 2025) EllapsedTime: 49.5 seconds RetCode: 0 Status: OK