Package: plotgardener Version: 1.17.0 Command: /home/biocbuild/bbs-3.23-bioc/R/bin/R CMD check --install=check:plotgardener.install-out.txt --library=/home/biocbuild/bbs-3.23-bioc/R/site-library --timings plotgardener_1.17.0.tar.gz StartedAt: 2025-11-08 02:38:45 -0500 (Sat, 08 Nov 2025) EndedAt: 2025-11-08 02:47:54 -0500 (Sat, 08 Nov 2025) EllapsedTime: 549.7 seconds RetCode: 0 Status: OK CheckDir: plotgardener.Rcheck Warnings: 0