Package: plotGrouper Version: 1.29.0 Command: /home/biocbuild/bbs-3.23-bioc/R/bin/R CMD check --install=check:plotGrouper.install-out.txt --library=/home/biocbuild/bbs-3.23-bioc/R/site-library --timings plotGrouper_1.29.0.tar.gz StartedAt: 2025-11-01 02:20:02 -0400 (Sat, 01 Nov 2025) EndedAt: 2025-11-01 02:20:55 -0400 (Sat, 01 Nov 2025) EllapsedTime: 53.1 seconds RetCode: 0 Status: OK CheckDir: plotGrouper.Rcheck Warnings: 0