Package: plotGrouper Version: 1.28.0 Command: /Library/Frameworks/R.framework/Resources/bin/R CMD check --install=check:plotGrouper.install-out.txt --library=/Library/Frameworks/R.framework/Resources/library --no-vignettes --timings plotGrouper_1.28.0.tar.gz StartedAt: 2025-10-30 06:01:21 -0400 (Thu, 30 Oct 2025) EndedAt: 2025-10-30 06:02:32 -0400 (Thu, 30 Oct 2025) EllapsedTime: 70.8 seconds RetCode: 0 Status: OK CheckDir: plotGrouper.Rcheck Warnings: 0