Package: plotGrouper Version: 1.27.0 Command: /Library/Frameworks/R.framework/Resources/bin/R CMD check --install=check:plotGrouper.install-out.txt --library=/Library/Frameworks/R.framework/Resources/library --no-vignettes --timings plotGrouper_1.27.0.tar.gz StartedAt: 2025-10-10 21:02:53 -0400 (Fri, 10 Oct 2025) EndedAt: 2025-10-10 21:03:18 -0400 (Fri, 10 Oct 2025) EllapsedTime: 25.3 seconds RetCode: 0 Status: OK CheckDir: plotGrouper.Rcheck Warnings: 0