Package: plier Version: 1.80.0 Command: /Library/Frameworks/R.framework/Resources/bin/R CMD INSTALL plier StartedAt: 2025-10-29 21:58:54 -0400 (Wed, 29 Oct 2025) EndedAt: 2025-10-29 21:59:14 -0400 (Wed, 29 Oct 2025) EllapsedTime: 19.9 seconds RetCode: 0 Status: OK