Package: plier Version: 1.80.0 Command: rm -rf plier.buildbin-libdir && mkdir plier.buildbin-libdir && /Users/biocbuild/BBS/utils/build-universal.sh plier_1.80.0.tar.gz /Library/Frameworks/R.framework/Resources/bin/R plier.buildbin-libdir StartedAt: 2025-10-30 08:31:13 -0400 (Thu, 30 Oct 2025) EndedAt: 2025-10-30 08:31:24 -0400 (Thu, 30 Oct 2025) EllapsedTime: 10.3 seconds RetCode: 0 Status: OK PackageFile: plier_1.80.0.tgz PackageFileSize: 43.69 KiB