Package: plier Version: 1.79.0 Command: /Library/Frameworks/R.framework/Resources/bin/R CMD INSTALL plier StartedAt: 2025-10-15 15:07:42 -0400 (Wed, 15 Oct 2025) EndedAt: 2025-10-15 15:07:46 -0400 (Wed, 15 Oct 2025) EllapsedTime: 4.2 seconds RetCode: 0 Status: OK