Package: plier Version: 1.79.0 Command: /Library/Frameworks/R.framework/Resources/bin/R CMD build --keep-empty-dirs --no-resave-data plier StartedAt: 2025-10-15 17:25:40 -0400 (Wed, 15 Oct 2025) EndedAt: 2025-10-15 17:25:41 -0400 (Wed, 15 Oct 2025) EllapsedTime: 1.0 seconds RetCode: 0 Status: OK PackageFile: plier_1.79.0.tar.gz PackageFileSize: 20.31 KiB