Package: plier Version: 1.79.0 Command: rm -rf plier.buildbin-libdir && mkdir plier.buildbin-libdir && /Users/biocbuild/BBS/utils/build-universal.sh plier_1.79.0.tar.gz /Library/Frameworks/R.framework/Resources/bin/R plier.buildbin-libdir StartedAt: 2025-10-16 23:12:18 -0400 (Thu, 16 Oct 2025) EndedAt: 2025-10-16 23:12:21 -0400 (Thu, 16 Oct 2025) EllapsedTime: 3.1 seconds RetCode: 0 Status: OK PackageFile: plier_1.79.0.tgz PackageFileSize: 40.23 KiB