Package: plgem Version: 1.83.0 Command: /home/biocbuild/bbs-3.23-bioc/R/bin/R CMD INSTALL plgem StartedAt: 2025-11-02 15:21:16 -0500 (Sun, 02 Nov 2025) EndedAt: 2025-11-02 15:21:20 -0500 (Sun, 02 Nov 2025) EllapsedTime: 3.8 seconds RetCode: 0 Status: OK