Package: plgem Version: 1.83.0 Command: /home/biocbuild/bbs-3.23-bioc/R/bin/R CMD build --keep-empty-dirs --no-resave-data plgem StartedAt: 2025-11-02 19:13:17 -0500 (Sun, 02 Nov 2025) EndedAt: 2025-11-02 19:13:31 -0500 (Sun, 02 Nov 2025) EllapsedTime: 14.0 seconds RetCode: 0 Status: OK PackageFile: plgem_1.83.0.tar.gz PackageFileSize: 1.036 MiB