Package: plgem Version: 1.81.0 Command: /Library/Frameworks/R.framework/Resources/bin/R CMD INSTALL plgem StartedAt: 2025-10-17 15:16:07 -0400 (Fri, 17 Oct 2025) EndedAt: 2025-10-17 15:16:26 -0400 (Fri, 17 Oct 2025) EllapsedTime: 19.0 seconds RetCode: 0 Status: OK