Package: plgem Version: 1.81.0 Command: rm -rf plgem.buildbin-libdir && mkdir plgem.buildbin-libdir && /Users/biocbuild/BBS/utils/build-universal.sh plgem_1.81.0.tar.gz /Library/Frameworks/R.framework/Resources/bin/R plgem.buildbin-libdir StartedAt: 2025-10-18 03:13:56 -0400 (Sat, 18 Oct 2025) EndedAt: 2025-10-18 03:14:03 -0400 (Sat, 18 Oct 2025) EllapsedTime: 7.0 seconds RetCode: 0 Status: OK PackageFile: plgem_1.81.0.tgz PackageFileSize: 1.117 MiB