Package: plgem Version: 1.81.0 Command: /Library/Frameworks/R.framework/Resources/bin/R CMD INSTALL plgem StartedAt: 2025-10-03 15:19:55 -0400 (Fri, 03 Oct 2025) EndedAt: 2025-10-03 15:19:56 -0400 (Fri, 03 Oct 2025) EllapsedTime: 1.5 seconds RetCode: 0 Status: OK