Package: plgem Version: 1.81.0 Command: /Library/Frameworks/R.framework/Resources/bin/R CMD build --keep-empty-dirs --no-resave-data plgem StartedAt: 2025-10-03 17:20:59 -0400 (Fri, 03 Oct 2025) EndedAt: 2025-10-03 17:21:06 -0400 (Fri, 03 Oct 2025) EllapsedTime: 7.1 seconds RetCode: 0 Status: OK PackageFile: plgem_1.81.0.tar.gz PackageFileSize: 1.037 MiB