Package: plgem Version: 1.81.0 Command: rm -rf plgem.buildbin-libdir && mkdir plgem.buildbin-libdir && /Users/biocbuild/BBS/utils/build-universal.sh plgem_1.81.0.tar.gz /Library/Frameworks/R.framework/Resources/bin/R plgem.buildbin-libdir StartedAt: 2025-10-03 22:50:22 -0400 (Fri, 03 Oct 2025) EndedAt: 2025-10-03 22:50:24 -0400 (Fri, 03 Oct 2025) EllapsedTime: 2.1 seconds RetCode: 0 Status: OK PackageFile: plgem_1.81.0.tgz PackageFileSize: 1.12 MiB