Package: plasmut Version: 1.7.0 Command: /home/biocbuild/bbs-3.22-bioc/R/bin/R CMD check --install=check:plasmut.install-out.txt --library=/home/biocbuild/bbs-3.22-bioc/R/site-library --timings plasmut_1.7.0.tar.gz StartedAt: 2025-10-22 03:20:24 -0400 (Wed, 22 Oct 2025) EndedAt: 2025-10-22 03:23:00 -0400 (Wed, 22 Oct 2025) EllapsedTime: 156.1 seconds RetCode: 0 Status: OK CheckDir: plasmut.Rcheck Warnings: 0