Package: plasmut Version: 1.9.0 Command: /home/biocbuild/bbs-3.23-bioc/R/bin/R CMD INSTALL plasmut StartedAt: 2025-11-07 15:10:10 -0500 (Fri, 07 Nov 2025) EndedAt: 2025-11-07 15:10:21 -0500 (Fri, 07 Nov 2025) EllapsedTime: 11.0 seconds RetCode: 0 Status: OK