Package: plasmut Version: 1.9.0 Command: /home/biocbuild/bbs-3.23-bioc/R/bin/R CMD build --keep-empty-dirs --no-resave-data plasmut StartedAt: 2025-11-07 19:13:32 -0500 (Fri, 07 Nov 2025) EndedAt: 2025-11-07 19:15:45 -0500 (Fri, 07 Nov 2025) EllapsedTime: 133.5 seconds RetCode: 0 Status: OK PackageFile: plasmut_1.9.0.tar.gz PackageFileSize: 362.5 KiB