Package: planttfhunter Version: 1.9.0 Command: /home/biocbuild/bbs-3.22-bioc/R/bin/R CMD INSTALL planttfhunter StartedAt: 2025-10-09 15:58:26 -0400 (Thu, 09 Oct 2025) EndedAt: 2025-10-09 15:58:50 -0400 (Thu, 09 Oct 2025) EllapsedTime: 24.3 seconds RetCode: 0 Status: OK