Package: planttfhunter Version: 1.9.0 Command: /home/biocbuild/bbs-3.22-bioc/R/bin/R CMD build --keep-empty-dirs --no-resave-data --md5 planttfhunter StartedAt: 2025-10-09 19:22:47 -0400 (Thu, 09 Oct 2025) EndedAt: 2025-10-09 19:23:22 -0400 (Thu, 09 Oct 2025) EllapsedTime: 35.0 seconds RetCode: 0 Status: OK PackageFile: planttfhunter_1.9.0.tar.gz PackageFileSize: 993.2 KiB