Package: planet Version: 1.17.0 Command: /home/biocbuild/R/R/bin/R CMD INSTALL planet StartedAt: 2025-10-23 20:26:39 -0000 (Thu, 23 Oct 2025) EndedAt: 2025-10-23 20:26:48 -0000 (Thu, 23 Oct 2025) EllapsedTime: 9.8 seconds RetCode: 0 Status: OK