Package: planet Version: 1.17.0 Command: /home/biocbuild/R/R/bin/R CMD build --keep-empty-dirs --no-resave-data planet StartedAt: 2025-10-21 02:04:46 -0000 (Tue, 21 Oct 2025) EndedAt: 2025-10-21 02:06:03 -0000 (Tue, 21 Oct 2025) EllapsedTime: 77.0 seconds RetCode: 0 Status: OK PackageFile: planet_1.17.0.tar.gz PackageFileSize: 2.732 MiB