Package: planet Version: 1.17.0 Command: /home/biocbuild/bbs-3.22-bioc/R/bin/R CMD check --install=check:planet.install-out.txt --library=/home/biocbuild/bbs-3.22-bioc/R/site-library --timings planet_1.17.0.tar.gz StartedAt: 2025-10-10 02:59:23 -0400 (Fri, 10 Oct 2025) EndedAt: 2025-10-10 03:01:19 -0400 (Fri, 10 Oct 2025) EllapsedTime: 115.1 seconds RetCode: 0 Status: OK CheckDir: planet.Rcheck Warnings: 0