Package: planet Version: 1.19.0 Command: /home/biocbuild/bbs-3.23-bioc/R/bin/R CMD INSTALL planet StartedAt: 2025-11-20 15:08:53 -0500 (Thu, 20 Nov 2025) EndedAt: 2025-11-20 15:08:57 -0500 (Thu, 20 Nov 2025) EllapsedTime: 4.4 seconds RetCode: 0 Status: OK