Package: planet Version: 1.19.0 Command: /home/biocbuild/bbs-3.23-bioc/R/bin/R CMD check --install=check:planet.install-out.txt --library=/home/biocbuild/bbs-3.23-bioc/R/site-library --timings planet_1.19.0.tar.gz StartedAt: 2025-11-25 02:39:41 -0500 (Tue, 25 Nov 2025) EndedAt: 2025-11-25 02:41:37 -0500 (Tue, 25 Nov 2025) EllapsedTime: 116.2 seconds RetCode: 0 Status: OK CheckDir: planet.Rcheck Warnings: 0