Package: planet Version: 1.19.0 Command: /home/biocbuild/bbs-3.23-bioc/R/bin/R CMD build --keep-empty-dirs --no-resave-data planet StartedAt: 2025-11-20 19:17:56 -0500 (Thu, 20 Nov 2025) EndedAt: 2025-11-20 19:18:49 -0500 (Thu, 20 Nov 2025) EllapsedTime: 53.0 seconds RetCode: 0 Status: OK PackageFile: planet_1.19.0.tar.gz PackageFileSize: 2.823 MiB